BEGIN:VCALENDAR
VERSION:2.0
PRODID:-//Grace Lutheran School - ECPv6.6.4.2//NONSGML v1.0//EN
CALSCALE:GREGORIAN
METHOD:PUBLISH
X-WR-CALNAME:Grace Lutheran School
X-ORIGINAL-URL:https://www.gls-hsv.org
X-WR-CALDESC:Events for Grace Lutheran School
REFRESH-INTERVAL;VALUE=DURATION:PT1H
X-Robots-Tag:noindex
X-PUBLISHED-TTL:PT1H
BEGIN:VTIMEZONE
TZID:America/Chicago
BEGIN:DAYLIGHT
TZOFFSETFROM:-0600
TZOFFSETTO:-0500
TZNAME:CDT
DTSTART:20240310T080000
END:DAYLIGHT
BEGIN:STANDARD
TZOFFSETFROM:-0500
TZOFFSETTO:-0600
TZNAME:CST
DTSTART:20241103T070000
END:STANDARD
END:VTIMEZONE
BEGIN:VEVENT
DTSTART;TZID=America/Chicago:20241107T160000
DTEND;TZID=America/Chicago:20241107T200000
DTSTAMP:20260422T053850
CREATED:20241104T195518Z
LAST-MODIFIED:20241105T154309Z
UID:1717-1730995200-1731009600@www.gls-hsv.org
SUMMARY:GLS Spirit Night
DESCRIPTION:Join us at Taco Mama in Jones Valley for a fun evening of fellowship and tacos!  A portion of all sales will benefit Grace Lutheran School when you mention Grace Lutheran upon checkout.  We hope to see you there!
URL:https://www.gls-hsv.org/event/gls-spirit-night/
LOCATION:Taco Mama\, 2750 Carl T Jones Dr SE Ste 1500B\, Huntsville\, AL\, 35802\, United States
CATEGORIES:Spirit Night
ATTACH;FMTTYPE=image/png:https://www.gls-hsv.org/wp-content/uploads/2024/11/Facebook-taco-mama.png
END:VEVENT
BEGIN:VEVENT
DTSTART;VALUE=DATE:20241108
DTEND;VALUE=DATE:20241109
DTSTAMP:20260422T053850
CREATED:20241104T204854Z
LAST-MODIFIED:20241105T154236Z
UID:1721-1731024000-1731110399@www.gls-hsv.org
SUMMARY:Midterm
DESCRIPTION:
URL:https://www.gls-hsv.org/event/midterm/
ATTACH;FMTTYPE=image/png:https://www.gls-hsv.org/wp-content/uploads/2024/11/Midterm1.png
END:VEVENT
BEGIN:VEVENT
DTSTART;TZID=America/Chicago:20241108T140000
DTEND;TZID=America/Chicago:20241108T144500
DTSTAMP:20260422T053850
CREATED:20241104T204243Z
LAST-MODIFIED:20241105T154330Z
UID:1719-1731074400-1731077100@www.gls-hsv.org
SUMMARY:Veteran's Day Assembly
DESCRIPTION:Students and staff will hear from 4 local veterans about their military experiences after which we will celebrate the service of all of our veterans together in the gymnasium.  Families are welcome to attend.
URL:https://www.gls-hsv.org/event/veterans-day-assembly/
LOCATION:Grace Lutheran School\, United States
CATEGORIES:School Assembly
ATTACH;FMTTYPE=image/png:https://www.gls-hsv.org/wp-content/uploads/2024/11/Grace-Lutheran-School.png
END:VEVENT
BEGIN:VEVENT
DTSTART;TZID=America/Chicago:20241109T090000
DTEND;TZID=America/Chicago:20241109T120000
DTSTAMP:20260422T053850
CREATED:20241106T142527Z
LAST-MODIFIED:20241106T143428Z
UID:1735-1731142800-1731153600@www.gls-hsv.org
SUMMARY:Parade Work Day- Old Gym
DESCRIPTION:The parade committee will be hard at work building the Grace Lutheran float for the Christmas Parade.  Many hands make light work!  Volunteers welcome!
URL:https://www.gls-hsv.org/event/parade-work-day/
LOCATION:Old Gym – Grace Lutheran Church
END:VEVENT
BEGIN:VEVENT
DTSTART;VALUE=DATE:20241111
DTEND;VALUE=DATE:20241112
DTSTAMP:20260422T053850
CREATED:20241105T182217Z
LAST-MODIFIED:20241105T192855Z
UID:1723-1731283200-1731369599@www.gls-hsv.org
SUMMARY:No School - Veteran's Day
DESCRIPTION:
URL:https://www.gls-hsv.org/event/veterans-day-no-school/
ATTACH;FMTTYPE=image/png:https://www.gls-hsv.org/wp-content/uploads/2024/11/Untitled-design.png
END:VEVENT
BEGIN:VEVENT
DTSTART;TZID=America/Chicago:20241115T180000
DTEND;TZID=America/Chicago:20241115T200000
DTSTAMP:20260422T053850
CREATED:20241106T144027Z
LAST-MODIFIED:20241106T144027Z
UID:1740-1731693600-1731700800@www.gls-hsv.org
SUMMARY:Cookies & Canvas
DESCRIPTION:
URL:https://www.gls-hsv.org/event/cookies-canvas-2/
LOCATION:Grace Lutheran School\, United States
ATTACH;FMTTYPE=image/png:https://www.gls-hsv.org/wp-content/uploads/2024/11/unnamed13.png
ORGANIZER;CN="Jen Roettjer":MAILTO:jen.roettjer@gls-hsv.org
END:VEVENT
BEGIN:VEVENT
DTSTART;TZID=America/Chicago:20241116T090000
DTEND;TZID=America/Chicago:20241116T120000
DTSTAMP:20260422T053850
CREATED:20241106T142657Z
LAST-MODIFIED:20241106T143408Z
UID:1736-1731747600-1731758400@www.gls-hsv.org
SUMMARY:Parade Work Day- Old Gym
DESCRIPTION:The parade committee will be hard at work building the Grace Lutheran float for the Christmas Parade.  Many hands make light work!  Volunteers welcome!
URL:https://www.gls-hsv.org/event/parade-work-day-2/
LOCATION:Old Gym – Grace Lutheran Church
END:VEVENT
BEGIN:VEVENT
DTSTART;TZID=America/Chicago:20241117T104500
DTEND;TZID=America/Chicago:20241117T120000
DTSTAMP:20260422T053850
CREATED:20241106T144439Z
LAST-MODIFIED:20241106T144439Z
UID:1743-1731840300-1731844800@www.gls-hsv.org
SUMMARY:1st & 2nd Grade Performance
DESCRIPTION:Out 1st & 2nd grade classes will be performing at the 10:45am service at Grace Lutheran Church.
URL:https://www.gls-hsv.org/event/1st-2nd-grade-performance/
LOCATION:Grace Lutheran Church
ORGANIZER;CN="Laurie Bruckner":MAILTO:laurie.bruckner@gls-hsv.org
END:VEVENT
BEGIN:VEVENT
DTSTART;TZID=America/Chicago:20241123T090000
DTEND;TZID=America/Chicago:20241123T120000
DTSTAMP:20260422T053850
CREATED:20241106T143008Z
LAST-MODIFIED:20241106T143321Z
UID:1738-1732352400-1732363200@www.gls-hsv.org
SUMMARY:Parade Work Day- Old Gym
DESCRIPTION:The parade committee will be hard at work building the Grace Lutheran float for the Christmas Parade.  Many hands make light work!  Volunteers welcome!
URL:https://www.gls-hsv.org/event/parade-work-day-old-gym/
LOCATION:Old Gym – Grace Lutheran Church
END:VEVENT
BEGIN:VEVENT
DTSTART;VALUE=DATE:20241125
DTEND;VALUE=DATE:20241130
DTSTAMP:20260422T053850
CREATED:20241105T182847Z
LAST-MODIFIED:20241105T183111Z
UID:1726-1732492800-1732924799@www.gls-hsv.org
SUMMARY:No School - Thanksgiving Break
DESCRIPTION:
URL:https://www.gls-hsv.org/event/no-school-thanksgiving-break/
ATTACH;FMTTYPE=image/png:https://www.gls-hsv.org/wp-content/uploads/2024/11/Thanksgiving1.png
END:VEVENT
BEGIN:VEVENT
DTSTART;VALUE=DATE:20241127
DTEND;VALUE=DATE:20241130
DTSTAMP:20260422T053850
CREATED:20241105T183819Z
LAST-MODIFIED:20241105T183819Z
UID:1728-1732665600-1732924799@www.gls-hsv.org
SUMMARY:CDC Closed- Thanksgiving Holiday
DESCRIPTION:
URL:https://www.gls-hsv.org/event/cdc-closed-thanksgiving-holiday/
CATEGORIES:No School/Holiday
ATTACH;FMTTYPE=image/png:https://www.gls-hsv.org/wp-content/uploads/2024/11/Thanksgiving2.png
END:VEVENT
BEGIN:VEVENT
DTSTART;TZID=America/Chicago:20241128T070000
DTEND;TZID=America/Chicago:20241128T173000
DTSTAMP:20260422T053850
CREATED:20241105T182615Z
LAST-MODIFIED:20241105T192709Z
UID:1724-1732777200-1732815000@www.gls-hsv.org
SUMMARY:Thanksgiving Day
DESCRIPTION:
URL:https://www.gls-hsv.org/event/thanksgiving-day-2/
ATTACH;FMTTYPE=image/png:https://www.gls-hsv.org/wp-content/uploads/2024/11/Thanksgiving.png
END:VEVENT
END:VCALENDAR