BEGIN:VCALENDAR
VERSION:2.0
PRODID:-//Grace Lutheran School - ECPv6.6.4.2//NONSGML v1.0//EN
CALSCALE:GREGORIAN
METHOD:PUBLISH
X-WR-CALNAME:Grace Lutheran School
X-ORIGINAL-URL:https://www.gls-hsv.org
X-WR-CALDESC:Events for Grace Lutheran School
REFRESH-INTERVAL;VALUE=DURATION:PT1H
X-Robots-Tag:noindex
X-PUBLISHED-TTL:PT1H
BEGIN:VTIMEZONE
TZID:America/Chicago
BEGIN:DAYLIGHT
TZOFFSETFROM:-0600
TZOFFSETTO:-0500
TZNAME:CDT
DTSTART:20240310T080000
END:DAYLIGHT
BEGIN:STANDARD
TZOFFSETFROM:-0500
TZOFFSETTO:-0600
TZNAME:CST
DTSTART:20241103T070000
END:STANDARD
BEGIN:DAYLIGHT
TZOFFSETFROM:-0600
TZOFFSETTO:-0500
TZNAME:CDT
DTSTART:20250309T080000
END:DAYLIGHT
BEGIN:STANDARD
TZOFFSETFROM:-0500
TZOFFSETTO:-0600
TZNAME:CST
DTSTART:20251102T070000
END:STANDARD
END:VTIMEZONE
BEGIN:VEVENT
DTSTART;TZID=America/Chicago:20241201T150000
DTEND;TZID=America/Chicago:20241201T170000
DTSTAMP:20260422T071952
CREATED:20241106T143227Z
LAST-MODIFIED:20241112T184046Z
UID:1739-1733065200-1733072400@www.gls-hsv.org
SUMMARY:Final Parade Work Day- Old Gym
DESCRIPTION:The parade committee will be hard at work building the Grace Lutheran float for the Christmas Parade.  Many hands make light work!  Volunteers welcome!
URL:https://www.gls-hsv.org/event/parade-work-day-old-gym-2/
LOCATION:Old Gym – Grace Lutheran Church
END:VEVENT
BEGIN:VEVENT
DTSTART;TZID=America/Chicago:20241203T180000
DTEND;TZID=America/Chicago:20241203T210000
DTSTAMP:20260422T071952
CREATED:20241106T153455Z
LAST-MODIFIED:20241106T160606Z
UID:1749-1733248800-1733259600@www.gls-hsv.org
SUMMARY:Christmas Parade
DESCRIPTION:
URL:https://www.gls-hsv.org/event/christmas-parade/
ATTACH;FMTTYPE=image/png:https://www.gls-hsv.org/wp-content/uploads/2024/11/City-of-Huntsville.png
END:VEVENT
BEGIN:VEVENT
DTSTART;TZID=America/Chicago:20241204T080000
DTEND;TZID=America/Chicago:20241206T173000
DTSTAMP:20260422T071952
CREATED:20241112T185002Z
LAST-MODIFIED:20241112T185003Z
UID:1769-1733299200-1733506200@www.gls-hsv.org
SUMMARY:CDC Book Fair
DESCRIPTION:Paper Pie (formerly known as Usborne Books & More) is back to share their fun collection of fiction and nonfiction books!
URL:https://www.gls-hsv.org/event/cdc-book-fair/
CATEGORIES:Book Fair
END:VEVENT
BEGIN:VEVENT
DTSTART;VALUE=DATE:20241206
DTEND;VALUE=DATE:20241207
DTSTAMP:20260422T071952
CREATED:20241106T160103Z
LAST-MODIFIED:20241106T160103Z
UID:1760-1733443200-1733529599@www.gls-hsv.org
SUMMARY:Christmas Sock/Hat Day
DESCRIPTION:
URL:https://www.gls-hsv.org/event/christmas-sock-hat-day/
END:VEVENT
BEGIN:VEVENT
DTSTART;TZID=America/Chicago:20241211T180000
DTEND;TZID=America/Chicago:20241211T200000
DTSTAMP:20260422T071952
CREATED:20241105T192349Z
LAST-MODIFIED:20241105T192349Z
UID:1733-1733940000-1733947200@www.gls-hsv.org
SUMMARY:Advent Service
DESCRIPTION:Join us for a communal dinner followed by a beautiful service of Lessons and Carols\, hosted by Grace Lutheran School and performed by our students.
URL:https://www.gls-hsv.org/event/advent-service-2/
LOCATION:Grace Lutheran School\, United States
ATTACH;FMTTYPE=image/png:https://www.gls-hsv.org/wp-content/uploads/2024/11/Advent-Service.png
END:VEVENT
BEGIN:VEVENT
DTSTART;TZID=America/Chicago:20241212T103000
DTEND;TZID=America/Chicago:20241212T210000
DTSTAMP:20260422T071952
CREATED:20241106T152238Z
LAST-MODIFIED:20241106T152238Z
UID:1746-1733999400-1734037200@www.gls-hsv.org
SUMMARY:Spirit Night- Urban Cookhouse
DESCRIPTION:No need to plan dinner tonight!  Come join us at Urban Cookhouse for great food and great fellowship!  A portion of your purchase will be donated back to Grace Lutheran School when you mention Grace Lutheran at checkout.
URL:https://www.gls-hsv.org/event/spirit-night-urban-cookhouse/
LOCATION:Urban Cookhouse- Whitesburg Dr.\, 4800 Whitesburg Dr. Suite 4\, Huntsville\, AL\, 35802\, United States
CATEGORIES:Spirit Night
ATTACH;FMTTYPE=image/png:https://www.gls-hsv.org/wp-content/uploads/2024/11/Urban-Cookhouse-Spirit-Night.png
END:VEVENT
BEGIN:VEVENT
DTSTART;VALUE=DATE:20241213
DTEND;VALUE=DATE:20241214
DTSTAMP:20260422T071952
CREATED:20241106T160137Z
LAST-MODIFIED:20241106T160137Z
UID:1761-1734048000-1734134399@www.gls-hsv.org
SUMMARY:Christmas Spirit Day
DESCRIPTION:
URL:https://www.gls-hsv.org/event/christmas-spirit-day-4/
END:VEVENT
BEGIN:VEVENT
DTSTART;VALUE=DATE:20241218
DTEND;VALUE=DATE:20241220
DTSTAMP:20260422T071952
CREATED:20241105T185556Z
LAST-MODIFIED:20241105T192515Z
UID:1731-1734480000-1734652799@www.gls-hsv.org
SUMMARY:Middle School Exams
DESCRIPTION:
URL:https://www.gls-hsv.org/event/middle-school-exams-2/
ATTACH;FMTTYPE=image/png:https://www.gls-hsv.org/wp-content/uploads/2024/11/Middle-School.png
END:VEVENT
BEGIN:VEVENT
DTSTART;VALUE=DATE:20241220
DTEND;VALUE=DATE:20241221
DTSTAMP:20260422T071952
CREATED:20241106T160341Z
LAST-MODIFIED:20241106T160341Z
UID:1762-1734652800-1734739199@www.gls-hsv.org
SUMMARY:Class Christmas Spirit Day
DESCRIPTION:
URL:https://www.gls-hsv.org/event/class-christmas-spirit-day/
END:VEVENT
BEGIN:VEVENT
DTSTART;VALUE=DATE:20241220
DTEND;VALUE=DATE:20241221
DTSTAMP:20260422T071952
CREATED:20241106T161608Z
LAST-MODIFIED:20241106T161608Z
UID:1763-1734652800-1734739199@www.gls-hsv.org
SUMMARY:Half Day- End of Quarter
DESCRIPTION:
URL:https://www.gls-hsv.org/event/half-day-end-of-quarter/
END:VEVENT
BEGIN:VEVENT
DTSTART;TZID=America/Chicago:20241220T163000
DTEND;TZID=America/Chicago:20241220T173000
DTSTAMP:20260422T071952
CREATED:20241112T184758Z
LAST-MODIFIED:20241112T184759Z
UID:1767-1734712200-1734715800@www.gls-hsv.org
SUMMARY:CDC Christmas Program
DESCRIPTION:Join us in the big school gymnasium as our student share Joy of Christmas with our friends and families!
URL:https://www.gls-hsv.org/event/cdc-christmas-program/
CATEGORIES:School Concert
END:VEVENT
BEGIN:VEVENT
DTSTART;VALUE=DATE:20241223
DTEND;VALUE=DATE:20250104
DTSTAMP:20260422T071952
CREATED:20241106T155222Z
LAST-MODIFIED:20241106T155222Z
UID:1755-1734912000-1735948799@www.gls-hsv.org
SUMMARY:No School - Christmas Break
DESCRIPTION:
URL:https://www.gls-hsv.org/event/no-school-christmas-break/
ATTACH;FMTTYPE=image/png:https://www.gls-hsv.org/wp-content/uploads/2024/11/holidays.png
ORGANIZER;CN="Grace Lutheran School":MAILTO:gls@gls-hsv.org
END:VEVENT
BEGIN:VEVENT
DTSTART;VALUE=DATE:20241224
DTEND;VALUE=DATE:20241226
DTSTAMP:20260422T071952
CREATED:20241106T154739Z
LAST-MODIFIED:20241106T155452Z
UID:1753-1734998400-1735171199@www.gls-hsv.org
SUMMARY:CDC Closed - Christmas Holiday
DESCRIPTION:
URL:https://www.gls-hsv.org/event/cdc-closed-christmas-holiday/
ATTACH;FMTTYPE=image/png:https://www.gls-hsv.org/wp-content/uploads/2024/11/City-of-Huntsville1.png
END:VEVENT
END:VCALENDAR